BEGIN:VCALENDAR
VERSION:2.0
PRODID:-//ACEDS - ECPv6.9.1//NONSGML v1.0//EN
CALSCALE:GREGORIAN
METHOD:PUBLISH
X-WR-CALNAME:ACEDS
X-ORIGINAL-URL:https://atlanta.aceds.org
X-WR-CALDESC:Events for ACEDS
REFRESH-INTERVAL;VALUE=DURATION:PT1H
X-Robots-Tag:noindex
X-PUBLISHED-TTL:PT1H
BEGIN:VTIMEZONE
TZID:America/New_York
BEGIN:DAYLIGHT
TZOFFSETFROM:-0500
TZOFFSETTO:-0400
TZNAME:EDT
DTSTART:20240310T070000
END:DAYLIGHT
BEGIN:STANDARD
TZOFFSETFROM:-0400
TZOFFSETTO:-0500
TZNAME:EST
DTSTART:20241103T060000
END:STANDARD
END:VTIMEZONE
BEGIN:VEVENT
DTSTART;TZID=America/New_York:20241205T180000
DTEND;TZID=America/New_York:20241205T220000
DTSTAMP:20260420T072056
CREATED:20241118T180227Z
LAST-MODIFIED:20241118T180227Z
UID:7320-1733421600-1733436000@atlanta.aceds.org
SUMMARY:Atlanta eDiscovery Community Holiday Party
DESCRIPTION:Hosted by: Atlanta ACEDS & Women in eDiscovery chapters\, and the State Bar of Georgia.\n\n\nJoin us for a night of glitz and glamour as we roll out the red carpet for our eDiscovery Oscar Night! 🌟 This is your chance to celebrate all our hard work\, reconnect with industry pals\, and make new connections. \nWhat to Expect: \n\nAwards that shine brighter than a Hollywood star!\nFestive fun and networking with the best in the biz.\nRaffle prizes from our favorite vendors\n\nA Special Cause:In the spirit of giving\, we’re partnering with the Ronald McDonald House! 🎁 Please bring a gift to donate—click the link below to see what’s needed and appropriate. Let’s spread some holiday cheer together! \nRMCH Info: https://rmhc.org/ways-to-give/fulfill-a-wishlist \nDress to impress\, and get ready for a night filled with laughter\, celebration\, and charity. We can’t wait to see you there! \nPlease RSVP by 11/26 \nHUGE thanks to our sponsors!! \nPLATINUM: PageOne\, Reveal\, Consilio\, Lineal\, FTI \nGOLD: S2 Data \nSILVER: Lighthouse \nBRONZE: Epiq\, IST\, Transperfect\, Array\, Opus 2
URL:https://atlanta.aceds.org/events/atlanta-ediscovery-community-holiday-party-2/
LOCATION:Bar Peri @ AC Hotel Atlanta Perimeter\, 40 Perimeter Center Place\, Dunwoody\, GA 30346\, Dunwoody\, GA\, 30346\, US
ATTACH;FMTTYPE=image/jpeg:https://atlanta.aceds.org/wp-content/uploads/2024/11/7320_image.jpg
END:VEVENT
END:VCALENDAR