BEGIN:VCALENDAR
VERSION:2.0
PRODID:-//ACEDS - ECPv6.9.1//NONSGML v1.0//EN
CALSCALE:GREGORIAN
METHOD:PUBLISH
X-WR-CALNAME:ACEDS
X-ORIGINAL-URL:https://atlanta.aceds.org
X-WR-CALDESC:Events for ACEDS
REFRESH-INTERVAL;VALUE=DURATION:PT1H
X-Robots-Tag:noindex
X-PUBLISHED-TTL:PT1H
BEGIN:VTIMEZONE
TZID:America/New_York
BEGIN:DAYLIGHT
TZOFFSETFROM:-0500
TZOFFSETTO:-0400
TZNAME:EDT
DTSTART:20240310T070000
END:DAYLIGHT
BEGIN:STANDARD
TZOFFSETFROM:-0400
TZOFFSETTO:-0500
TZNAME:EST
DTSTART:20241103T060000
END:STANDARD
END:VTIMEZONE
BEGIN:VEVENT
DTSTART;VALUE=DATE:20241112
DTEND;VALUE=DATE:20241113
DTSTAMP:20260420T072056
CREATED:20240410T173618Z
LAST-MODIFIED:20240410T173618Z
UID:2298-1731369600-1731455999@atlanta.aceds.org
SUMMARY:The Masters Conference: Atlanta
DESCRIPTION:King & Spalding will host our Atlanta\, GA event on Tuesday\, November 12\, 2024. The day will feature keynote speeches\, panel discussions\, workshops\, and networking opportunities. We provide an excellent platform for legal professionals\, technology experts\, and industry leaders to share their knowledge and insights while exploring innovative solutions to the challenges they face in the legal domain.\n\nACEDS members: Save 20% on registration with code ACEDSATLANTA20\n\nLearn more and register here
URL:https://atlanta.aceds.org/events/the-masters-conference-atlanta-2/
ATTACH;FMTTYPE=image/png:https://atlanta.aceds.org/wp-content/uploads/2024/04/Masters-Atlanta.png
END:VEVENT
END:VCALENDAR