BEGIN:VCALENDAR
VERSION:2.0
PRODID:-//ACEDS - ECPv6.9.1//NONSGML v1.0//EN
CALSCALE:GREGORIAN
METHOD:PUBLISH
X-WR-CALNAME:ACEDS
X-ORIGINAL-URL:https://atlanta.aceds.org
X-WR-CALDESC:Events for ACEDS
REFRESH-INTERVAL;VALUE=DURATION:PT1H
X-Robots-Tag:noindex
X-PUBLISHED-TTL:PT1H
BEGIN:VTIMEZONE
TZID:America/New_York
BEGIN:DAYLIGHT
TZOFFSETFROM:-0500
TZOFFSETTO:-0400
TZNAME:EDT
DTSTART:20210314T070000
END:DAYLIGHT
BEGIN:STANDARD
TZOFFSETFROM:-0400
TZOFFSETTO:-0500
TZNAME:EST
DTSTART:20211107T060000
END:STANDARD
BEGIN:DAYLIGHT
TZOFFSETFROM:-0500
TZOFFSETTO:-0400
TZNAME:EDT
DTSTART:20220313T070000
END:DAYLIGHT
BEGIN:STANDARD
TZOFFSETFROM:-0400
TZOFFSETTO:-0500
TZNAME:EST
DTSTART:20221106T060000
END:STANDARD
BEGIN:DAYLIGHT
TZOFFSETFROM:-0500
TZOFFSETTO:-0400
TZNAME:EDT
DTSTART:20230312T070000
END:DAYLIGHT
BEGIN:STANDARD
TZOFFSETFROM:-0400
TZOFFSETTO:-0500
TZNAME:EST
DTSTART:20231105T060000
END:STANDARD
END:VTIMEZONE
BEGIN:VEVENT
DTSTART;TZID=America/New_York:20231214T180000
DTEND;TZID=America/New_York:20231214T210000
DTSTAMP:20260420T174232
CREATED:20231115T210747Z
LAST-MODIFIED:20231115T210747Z
UID:1281-1702576800-1702587600@atlanta.aceds.org
SUMMARY:Atlanta eDiscovery Community Holiday Party
DESCRIPTION:Join the Atlanta Assoc. of eDiscovery Specialists\, Women in eDiscovery and  Atlanta Bar eDiscovery Section for our annual holiday event!\n\n\nOn Thursday\, December 14th from 6-9PM ET\, at Bar Peri in the AC Hotel at the Perimeter\,  the Atlanta eDiscovery Community comes together to celebrate the holidays. This annual event is not to be missed and will feature open bar\, Appetizers\, Raffle\, DJ and a Charity Event for Ronald McDonald House. Please see the attached list of items that we will be accepting and dontating. \n \nA huge thank you to our sponsors for all of their continued support! \nPlatinum: \nPageOne Legal \nConsilio \nReveal \nLineal \nLighthouse \nFTI \nIST \nPlusNxt \n \n \nGold: \nSullivan Strickler \nKL Discovery \n \nSilver: \nEpiq \n \nBronze: \nBDO \nOnna \nOpus2 \nTCDI \nTransPerfect
URL:https://atlanta.aceds.org/events/atlanta-ediscovery-community-holiday-party/
LOCATION:Bar Peri @ AC Hotel Atlanta Perimeter\, 40 Perimeter Center Place\, Dunwoody\, GA 30346\, Dunwoody\, GA\, 30346\, US
ATTACH;FMTTYPE=image/jpeg:https://atlanta.aceds.org/wp-content/uploads/2023/11/1281_image.jpg
END:VEVENT
BEGIN:VEVENT
DTSTART;TZID=America/New_York:20231109T080000
DTEND;TZID=America/New_York:20231109T190000
DTSTAMP:20260420T174232
CREATED:20230711T193324Z
LAST-MODIFIED:20230711T193324Z
UID:1265-1699516800-1699556400@atlanta.aceds.org
SUMMARY:The Master's Conference: Atlanta
DESCRIPTION:The Master’s Conference is back in Atlanta with a one-day conference on Thursday\, November 9\, 2023. Master’s is the leading legal technology conference that brings together industry experts to share knowledge and explore topics and solutions tailored specifically to their everyday challenges.\n\nACEDS members: Save 20% on registration with code ACEDSATL20\n  \nLearn more and register here
URL:https://atlanta.aceds.org/events/the-masters-conference-atlanta/
ATTACH;FMTTYPE=image/png:https://atlanta.aceds.org/wp-content/uploads/2023/07/Masters-Atlanta.png
END:VEVENT
BEGIN:VEVENT
DTSTART;TZID=America/New_York:20210811T183000
DTEND;TZID=America/New_York:20210811T193000
DTSTAMP:20260420T174232
CREATED:20210722T170024Z
LAST-MODIFIED:20210722T170024Z
UID:357-1628706600-1628710200@atlanta.aceds.org
SUMMARY:ACEDS Atlanta Chapter Launch - Virtual Meet and Greet
DESCRIPTION:
URL:https://atlanta.aceds.org/events/aceds-atlanta-chapter-launch-virtual-meet-and-greet/
ATTACH;FMTTYPE=image/png:https://atlanta.aceds.org/wp-content/uploads/2021/07/Atlanta-Chapter_August-11_Eventbrite.png
END:VEVENT
END:VCALENDAR