BEGIN:VCALENDAR
VERSION:2.0
PRODID:-//ACEDS - ECPv6.9.1//NONSGML v1.0//EN
CALSCALE:GREGORIAN
METHOD:PUBLISH
X-WR-CALNAME:ACEDS
X-ORIGINAL-URL:https://atlanta.aceds.org
X-WR-CALDESC:Events for ACEDS
REFRESH-INTERVAL;VALUE=DURATION:PT1H
X-Robots-Tag:noindex
X-PUBLISHED-TTL:PT1H
BEGIN:VTIMEZONE
TZID:America/New_York
BEGIN:DAYLIGHT
TZOFFSETFROM:-0500
TZOFFSETTO:-0400
TZNAME:EDT
DTSTART:20230312T070000
END:DAYLIGHT
BEGIN:STANDARD
TZOFFSETFROM:-0400
TZOFFSETTO:-0500
TZNAME:EST
DTSTART:20231105T060000
END:STANDARD
END:VTIMEZONE
BEGIN:VEVENT
DTSTART;TZID=America/New_York:20231109T080000
DTEND;TZID=America/New_York:20231109T190000
DTSTAMP:20260422T083225
CREATED:20230711T193324Z
LAST-MODIFIED:20230711T193324Z
UID:1265-1699516800-1699556400@atlanta.aceds.org
SUMMARY:The Master's Conference: Atlanta
DESCRIPTION:The Master’s Conference is back in Atlanta with a one-day conference on Thursday\, November 9\, 2023. Master’s is the leading legal technology conference that brings together industry experts to share knowledge and explore topics and solutions tailored specifically to their everyday challenges.\n\nACEDS members: Save 20% on registration with code ACEDSATL20\n  \nLearn more and register here
URL:https://atlanta.aceds.org/events/the-masters-conference-atlanta/
ATTACH;FMTTYPE=image/png:https://atlanta.aceds.org/wp-content/uploads/2023/07/Masters-Atlanta.png
END:VEVENT
END:VCALENDAR